BEGIN:VCALENDAR
VERSION:2.0
PRODID:-//Plone.org//NONSGML plone.app.event//EN
X-WR-TIMEZONE:Europe/Madrid
BEGIN:VEVENT
SUMMARY:Espai Obert
DTSTART;TZID=Europe/Madrid;VALUE=DATE-TIME:20180322T191500
DTEND;TZID=Europe/Madrid;VALUE=DATE-TIME:20180322T201500
DTSTAMP;VALUE=DATE-TIME:20260421T212448Z
UID:1590f14f9500458e71d9f7f2007b66ef
CREATED;VALUE=DATE-TIME:20180308T000000Z
CATEGORIES:Cursos
LOCATION:Casal d'Entitats - Cr. Marc Mir, 15
ORGANIZER:ESPAI DEL KOR
COMMENT:Preu: Gratuït
URL:https://www.santsadurni.cat/document.php?id=10845
END:VEVENT
END:VCALENDAR