BEGIN:VCALENDAR
VERSION:2.0
PRODID:-//Plone.org//NONSGML plone.app.event//EN
X-WR-TIMEZONE:Europe/Madrid
BEGIN:VEVENT
SUMMARY:Tast amistós: escumosos ancestrals (I)
DTSTART;TZID=Europe/Madrid;VALUE=DATE-TIME:20180519T190000
DTEND;TZID=Europe/Madrid;VALUE=DATE-TIME:20180519T200000
DTSTAMP;VALUE=DATE-TIME:20260421T132215Z
UID:bc6137927a9e60e2e0b1fa235f0a3bea
CREATED;VALUE=DATE-TIME:20180519T000000Z
CATEGORIES:Vins i caves,Gastronomia,Formació
LOCATION:Cal Feru eno·botiga
ORGANIZER:Cal Feru
COMMENT:Preu: 20
Durada: Dissabte 19 de maig de 2018 a les 19h i Dissabte 31 de maig de 2018 a les 20h
URL:https://www.santsadurni.cat/document.php?id=11179
END:VEVENT
END:VCALENDAR