BEGIN:VCALENDAR
VERSION:2.0
PRODID:-//Plone.org//NONSGML plone.app.event//EN
X-WR-TIMEZONE:Europe/Madrid
BEGIN:VEVENT
SUMMARY:Festa del Barri Sant Llorenç
DTSTART;TZID=Europe/Madrid;VALUE=DATE-TIME:20180630T120000
DTEND;TZID=Europe/Madrid;VALUE=DATE-TIME:20180630T130000
DTSTAMP;VALUE=DATE-TIME:20260424T094809Z
UID:2c549a1e9304df4c88eea8a75b9dfeb5
CREATED;VALUE=DATE-TIME:20180630T000000Z
CATEGORIES:Festa
LOCATION:Passeig codorniu / plaça gran del Barri
ORGANIZER:Associació Barri Sant Llorenç
COMMENT:Preu: Gratuït
Durada: a partir de les 12.00 h
URL:https://www.santsadurni.cat/document.php?id=11473
END:VEVENT
END:VCALENDAR