BEGIN:VCALENDAR
VERSION:2.0
PRODID:-//Plone.org//NONSGML plone.app.event//EN
X-WR-TIMEZONE:Europe/Madrid
BEGIN:VEVENT
SUMMARY:Cursos d'Estiu
DTSTART;TZID=Europe/Madrid;VALUE=DATE-TIME:20180701T000000
DTEND;TZID=Europe/Madrid;VALUE=DATE-TIME:20180701T010000
DTSTAMP;VALUE=DATE-TIME:20260424T095159Z
UID:692ae1e1ceb5a4a5f932e70bfdd5f86a
CREATED;VALUE=DATE-TIME:20180701T000000Z
CATEGORIES:Cursos,Formació
LOCATION:MEDITERRÀNIA - ACADÈMIA D´IDIOMES
ORGANIZER:MEDITERRÀNIA - ACADÈMIA D´IDIOMES
COMMENT:Durada: JULIOL 2018 - MATINS I TARDES
URL:https://www.santsadurni.cat/document.php?id=11530
END:VEVENT
END:VCALENDAR