BEGIN:VCALENDAR
VERSION:2.0
PRODID:-//Plone.org//NONSGML plone.app.event//EN
X-WR-TIMEZONE:Europe/Madrid
BEGIN:VEVENT
SUMMARY:Summer Camp
DTSTART;TZID=Europe/Madrid;VALUE=DATE-TIME:20180702T090000
DTEND;TZID=Europe/Madrid;VALUE=DATE-TIME:20180702T100000
DTSTAMP;VALUE=DATE-TIME:20260424T173902Z
UID:07eec825caef000f032ba726d8e628c0
CREATED;VALUE=DATE-TIME:20180702T000000Z
CATEGORIES:Infantils
LOCATION:Academia : Espai Cultural
ORGANIZER:Espai Cultural
COMMENT:Preu: 205,00
Durada: Fins al 28 de juliol
DESCRIPTION:Have Fun
URL:https://www.santsadurni.cat/document.php?id=11629
END:VEVENT
END:VCALENDAR