BEGIN:VCALENDAR
VERSION:2.0
PRODID:-//Plone.org//NONSGML plone.app.event//EN
X-WR-TIMEZONE:Europe/Madrid
BEGIN:VEVENT
SUMMARY:Taller de fang
DTSTART;TZID=Europe/Madrid;VALUE=DATE-TIME:20180701T000000
DTEND;TZID=Europe/Madrid;VALUE=DATE-TIME:20180701T010000
DTSTAMP;VALUE=DATE-TIME:20260424T095823Z
UID:d3a63c497a75178e1413d6fd8296b70f
CREATED;VALUE=DATE-TIME:20180701T000000Z
CATEGORIES:Cursos
LOCATION:EL TALLER.c/ Pi i Margall-14
DESCRIPTION:Vine a fer fang aquest estiu
URL:https://www.santsadurni.cat/document.php?id=11647
END:VEVENT
END:VCALENDAR