BEGIN:VCALENDAR
VERSION:2.0
PRODID:-//Plone.org//NONSGML plone.app.event//EN
X-WR-TIMEZONE:Europe/Madrid
BEGIN:VEVENT
SUMMARY:Hora del conte a la Bibliopiscina: &OpenCurlyDoubleQuote;Contes a la maleta&CloseCurlyDoubleQuote; amb l´actriu Clara Ribatallada
DTSTART;TZID=Europe/Madrid;VALUE=DATE-TIME:20180704T180000
DTEND;TZID=Europe/Madrid;VALUE=DATE-TIME:20180704T190000
DTSTAMP;VALUE=DATE-TIME:20260424T164145Z
UID:07e3e649a76c4b10ab970ab85539d348
CREATED;VALUE=DATE-TIME:20180704T000000Z
CATEGORIES:Literatura,Infantils
LOCATION:Bibliopiscina, a la gespa de la Piscina Municipal
ORGANIZER:Biblioteca Municipal amb la col·laboració del Servei d'Esports
COMMENT:Preu: Gratuït
URL:https://www.santsadurni.cat/document.php?id=11656
END:VEVENT
END:VCALENDAR