BEGIN:VCALENDAR
VERSION:2.0
PRODID:-//Plone.org//NONSGML plone.app.event//EN
X-WR-TIMEZONE:Europe/Madrid
BEGIN:VEVENT
SUMMARY:Xerrada Marc Bernaus i Àlex Moreno
DTSTART;TZID=Europe/Madrid;VALUE=DATE-TIME:20180703T150000
DTEND;TZID=Europe/Madrid;VALUE=DATE-TIME:20180703T160000
DTSTAMP;VALUE=DATE-TIME:20260424T164130Z
UID:1d0528468414500ac60029902f90a517
CREATED;VALUE=DATE-TIME:20180703T000000Z
CATEGORIES:Esports
LOCATION:Casal d'Entitats - Cr. Marc Mir, 15
ORGANIZER:CAMPUS àLEX MORENO
COMMENT:Preu: Accés lliure
URL:https://www.santsadurni.cat/document.php?id=11661
END:VEVENT
END:VCALENDAR