BEGIN:VCALENDAR
VERSION:2.0
PRODID:-//Plone.org//NONSGML plone.app.event//EN
X-WR-TIMEZONE:Europe/Madrid
BEGIN:VEVENT
SUMMARY:Campus Àlex Moreno
DTSTART;TZID=Europe/Madrid;VALUE=DATE-TIME:20180702T235500
DTEND;TZID=Europe/Madrid;VALUE=DATE-TIME:20180703T005500
DTSTAMP;VALUE=DATE-TIME:20260424T123430Z
UID:ff1184dd06a9a527431736174664ef46
CREATED;VALUE=DATE-TIME:20180702T000000Z
CATEGORIES:Esports
LOCATION:Zona Esportiva - Ps. Can Ferrer, 2
ORGANIZER:Associació Esportiva Futbol Moreno Sant Sadurní
COMMENT:Durada: de 9 a 13 h / 15 a 17 h (servei de menjador 13 a 15h)
URL:https://www.santsadurni.cat/document.php?id=11662
END:VEVENT
END:VCALENDAR