BEGIN:VCALENDAR
VERSION:2.0
PRODID:-//Plone.org//NONSGML plone.app.event//EN
X-WR-TIMEZONE:Europe/Madrid
BEGIN:VEVENT
SUMMARY:2n BARCELONA OPEN ROLLER - Memorial Pepi Alonso. Patinatge Artístic
DTSTART;TZID=Europe/Madrid;VALUE=DATE-TIME:20180701T000000
DTEND;TZID=Europe/Madrid;VALUE=DATE-TIME:20180701T010000
DTSTAMP;VALUE=DATE-TIME:20260424T095608Z
UID:1a6847674032706a19ec777bf45dd8a2
CREATED;VALUE=DATE-TIME:20180630T000000Z
CATEGORIES:Esports
LOCATION:Pavelló de l'Ateneu Agrícola
ORGANIZER:CPA CANYELLES - CPA BEGUES
COMMENT:Preu: gratuït
Durada: Dia 30 juny de 8 a 22 hores. Dia 1 juliol 8.30 a 19 hores
URL:https://www.santsadurni.cat/document.php?id=11665
END:VEVENT
END:VCALENDAR