BEGIN:VCALENDAR
VERSION:2.0
PRODID:-//Plone.org//NONSGML plone.app.event//EN
X-WR-TIMEZONE:Europe/Madrid
BEGIN:VEVENT
SUMMARY:Cursos d'Estiu de francès, anglès i alemany
DTSTART;TZID=Europe/Madrid;VALUE=DATE-TIME:20180701T000000
DTEND;TZID=Europe/Madrid;VALUE=DATE-TIME:20180701T010000
DTSTAMP;VALUE=DATE-TIME:20260424T095838Z
UID:87b3e2264457232dde3c2a29dbc26d11
CREATED;VALUE=DATE-TIME:20180701T000000Z
CATEGORIES:Cursos,Formació
LOCATION:C/ DIPUTACIÓ, 37 BAIXOS - SANT SADURNI D´ANOIA
COMMENT:Durada: Matins i Tardes
URL:https://www.santsadurni.cat/document.php?id=11667
END:VEVENT
END:VCALENDAR