BEGIN:VCALENDAR
VERSION:2.0
PRODID:-//Plone.org//NONSGML plone.app.event//EN
X-WR-TIMEZONE:Europe/Madrid
BEGIN:VEVENT
SUMMARY:SOM Sant Sadurní. Te'n regalem un
DTSTART;TZID=Europe/Madrid;VALUE=DATE-TIME:20180701T235500
DTEND;TZID=Europe/Madrid;VALUE=DATE-TIME:20180702T005500
DTSTAMP;VALUE=DATE-TIME:20260424T123826Z
UID:ccc5d47d9c20afb86da6623a9298986c
CREATED;VALUE=DATE-TIME:20180701T000000Z
LOCATION:Establiments comercials de Sant Sadurní
ORGANIZER:Som Sant Sadurní
URL:https://www.santsadurni.cat/document.php?id=11699
END:VEVENT
END:VCALENDAR