BEGIN:VCALENDAR
VERSION:2.0
PRODID:-//Plone.org//NONSGML plone.app.event//EN
X-WR-TIMEZONE:Europe/Madrid
BEGIN:VEVENT
SUMMARY:Junta de govern local
DTSTART;TZID=Europe/Madrid;VALUE=DATE-TIME:20180702T193000
DTEND;TZID=Europe/Madrid;VALUE=DATE-TIME:20180702T203000
DTSTAMP;VALUE=DATE-TIME:20260424T123700Z
UID:829ad2128ec84068a30d9d2ad168cde4
CREATED;VALUE=DATE-TIME:20180702T000000Z
CATEGORIES:Conferència,Agenda de l'alcalde
LOCATION:Ajuntament de Sant Sadurní - Pl. Ajuntament 1
URL:https://www.santsadurni.cat/document.php?id=11728
END:VEVENT
END:VCALENDAR