BEGIN:VCALENDAR
VERSION:2.0
PRODID:-//Plone.org//NONSGML plone.app.event//EN
X-WR-TIMEZONE:Europe/Madrid
BEGIN:VEVENT
SUMMARY:Agenda de l'alcalde: Reunió Pla Territorial
DTSTART;TZID=Europe/Madrid;VALUE=DATE-TIME:20180704T160000
DTEND;TZID=Europe/Madrid;VALUE=DATE-TIME:20180704T170000
DTSTAMP;VALUE=DATE-TIME:20260424T163846Z
UID:557d590833a8447417efd999ef2e726d
CREATED;VALUE=DATE-TIME:20180704T000000Z
CATEGORIES:Conferència,Agenda de l'alcalde
LOCATION:Parlament de Catalunya
URL:https://www.santsadurni.cat/document.php?id=11748
END:VEVENT
END:VCALENDAR