BEGIN:VCALENDAR
VERSION:2.0
PRODID:-//Plone.org//NONSGML plone.app.event//EN
X-WR-TIMEZONE:Europe/Madrid
BEGIN:VEVENT
SUMMARY:Nit Europea dels Ratpenats
DTSTART;TZID=Europe/Madrid;VALUE=DATE-TIME:20180706T190000
DTEND;TZID=Europe/Madrid;VALUE=DATE-TIME:20180706T200000
DTSTAMP;VALUE=DATE-TIME:20260424T191803Z
UID:a3b48a662c62633c678ffac04c7d9659
CREATED;VALUE=DATE-TIME:20180706T000000Z
CATEGORIES:Familiar,Formació
LOCATION:Castell de Penyafort Santa Margarida i els Monjos
ORGANIZER:Servei de Medi Ambient de Ajuntament de Sant sadurní d'Anoia i Molí del Foix de Santa Margarida i els Monjos
COMMENT:Preu: Gratuit
Durada: 3
DESCRIPTION:Escoltem els ratpenats
URL:https://www.santsadurni.cat/document.php?id=11753
END:VEVENT
END:VCALENDAR