BEGIN:VCALENDAR
VERSION:2.0
PRODID:-//Plone.org//NONSGML plone.app.event//EN
X-WR-TIMEZONE:Europe/Madrid
BEGIN:VEVENT
SUMMARY:CINEMA A LA FRESCA: Bailando la vida
DTSTART;TZID=Europe/Madrid;VALUE=DATE-TIME:20180706T223000
DTEND;TZID=Europe/Madrid;VALUE=DATE-TIME:20180706T233000
DTSTAMP;VALUE=DATE-TIME:20260424T193137Z
UID:67d49078cbb1dbeeff98133f0961286d
CREATED;VALUE=DATE-TIME:20180706T000000Z
CATEGORIES:Cinema
LOCATION:Pista del Centre
ORGANIZER:Regidoria de Cultura
COMMENT:Preu: Gratuït
URL:https://www.santsadurni.cat/document.php?id=11755
END:VEVENT
END:VCALENDAR