BEGIN:VCALENDAR
VERSION:2.0
PRODID:-//Plone.org//NONSGML plone.app.event//EN
X-WR-TIMEZONE:Europe/Madrid
BEGIN:VEVENT
SUMMARY:Festa de la Fil·loxera dels avis (Fil·loxera solidària)
DTSTART;TZID=Europe/Madrid;VALUE=DATE-TIME:20180902T180000
DTEND;TZID=Europe/Madrid;VALUE=DATE-TIME:20180902T190000
DTSTAMP;VALUE=DATE-TIME:20260424T145206Z
UID:2d0713974f14f951fafd5f349c7e6caf
CREATED;VALUE=DATE-TIME:20180902T000000Z
CATEGORIES:Festa
LOCATION:Pati de la Casa dels Avis
URL:https://www.santsadurni.cat/document.php?id=11834
END:VEVENT
END:VCALENDAR