BEGIN:VCALENDAR
VERSION:2.0
PRODID:-//Plone.org//NONSGML plone.app.event//EN
X-WR-TIMEZONE:Europe/Madrid
BEGIN:VEVENT
SUMMARY:L'Istiu 19 -Suu-
DTSTART;TZID=Europe/Madrid;VALUE=DATE-TIME:20190704T223000
DTEND;TZID=Europe/Madrid;VALUE=DATE-TIME:20190704T233000
DTSTAMP;VALUE=DATE-TIME:20260424T223122Z
UID:ff54955ad1fc08e5cd40dd3360311d54
CREATED;VALUE=DATE-TIME:20190704T000000Z
CATEGORIES:Música
LOCATION:Índex. Servei de Joventut - Cr. Pompeu Fabra, 34
ORGANIZER:Regidoria de Joventut
COMMENT:Preu: Entrada gratuïta
DESCRIPTION:Una de les promeses catalanes més seguides i escoltades de l&#8217;actualitat, Suu presenta per petició popular el seu primer disc, Natural
URL:https://www.santsadurni.cat/document.php?id=13023
END:VEVENT
END:VCALENDAR