BEGIN:VCALENDAR
VERSION:2.0
PRODID:-//Plone.org//NONSGML plone.app.event//EN
X-WR-TIMEZONE:Europe/Madrid
BEGIN:VEVENT
SUMMARY:L'Istiu 19 -Lildami-
DTSTART;TZID=Europe/Madrid;VALUE=DATE-TIME:20190711T223000
DTEND;TZID=Europe/Madrid;VALUE=DATE-TIME:20190711T233000
DTSTAMP;VALUE=DATE-TIME:20260424T223139Z
UID:c13abc6027a8fab0cbc3c4d78167ae62
CREATED;VALUE=DATE-TIME:20190711T000000Z
CATEGORIES:Música,Agenda de l'alcalde
LOCATION:Índex. Servei de Joventut - Cr. Pompeu Fabra, 34
ORGANIZER:Regidoria de Joventut
COMMENT:Preu: Entrada gratuïta
DESCRIPTION:Lildami és el pseudònim de Damià Rodríguez, un cantant de rap/ trap en català, que destaca per un missatge positiu allunyat de l&#8217;estereotip de drogues o violència.
URL:https://www.santsadurni.cat/document.php?id=13025
END:VEVENT
END:VCALENDAR