BEGIN:VCALENDAR
VERSION:2.0
PRODID:-//Plone.org//NONSGML plone.app.event//EN
X-WR-TIMEZONE:Europe/Madrid
BEGIN:VEVENT
SUMMARY:Ball berenar del Casal Municipal.
DTSTART;TZID=Europe/Madrid;VALUE=DATE-TIME:20190712T170000
DTEND;TZID=Europe/Madrid;VALUE=DATE-TIME:20190712T180000
DTSTAMP;VALUE=DATE-TIME:20260425T011115Z
UID:67398f2105e3e152d3e25490f52989e7
CREATED;VALUE=DATE-TIME:20190712T000000Z
CATEGORIES:Festa,Agenda de l'alcalde
LOCATION:Casal Municipal de la Gent Gran Sant Sadurní - Ps. Can Ferrer 11
ORGANIZER:Junta del ball berenar i Ràdio Sant Sadurní.
COMMENT:Preu: 5&euro;
Durada: Dues hores i mitja
URL:https://www.santsadurni.cat/document.php?id=13365
END:VEVENT
END:VCALENDAR