BEGIN:VCALENDAR
VERSION:2.0
PRODID:-//Plone.org//NONSGML plone.app.event//EN
X-WR-TIMEZONE:Europe/Madrid
BEGIN:VEVENT
SUMMARY:Festa Major Barri Vilarnau
DTSTART;TZID=Europe/Madrid;VALUE=DATE-TIME:20190714T000000
DTEND;TZID=Europe/Madrid;VALUE=DATE-TIME:20190714T010000
DTSTAMP;VALUE=DATE-TIME:20260425T011100Z
UID:a068ec16d93c7c116ccf75f931e35043
CREATED;VALUE=DATE-TIME:20190712T000000Z
CATEGORIES:Festa
LOCATION:Barri Vilarnau
URL:https://www.santsadurni.cat/document.php?id=13404
END:VEVENT
END:VCALENDAR