BEGIN:VCALENDAR
VERSION:2.0
PRODID:-//Plone.org//NONSGML plone.app.event//EN
X-WR-TIMEZONE:Europe/Madrid
BEGIN:VEVENT
SUMMARY:Hora del conte "Contes la mar de salats" a càrrec de Jeep Gasulla
DTSTART;TZID=Europe/Madrid;VALUE=DATE-TIME:20190715T180000
DTEND;TZID=Europe/Madrid;VALUE=DATE-TIME:20190715T190000
DTSTAMP;VALUE=DATE-TIME:20260420T011615Z
UID:85b80ba871711d881407bf0950cd9e58
CREATED;VALUE=DATE-TIME:20190715T000000Z
CATEGORIES:Literatura,Infantils,Familiar
LOCATION:Zona Esportiva - Ps. Can Ferrer, 2
ORGANIZER:Biblioteca Municipal Ramon Bosch de Noya
COMMENT:Durada: 50 minuts aproximadament
DESCRIPTION:Per a totes les edats, sense inscripció prèvia
URL:https://www.santsadurni.cat/document.php?id=13406
END:VEVENT
END:VCALENDAR