BEGIN:VCALENDAR
VERSION:2.0
PRODID:-//Plone.org//NONSGML plone.app.event//EN
X-WR-TIMEZONE:Europe/Madrid
BEGIN:VEVENT
SUMMARY:Visita al celler Enlaire Vins
DTSTART;TZID=Europe/Madrid;VALUE=DATE-TIME:20190711T200000
DTEND;TZID=Europe/Madrid;VALUE=DATE-TIME:20190711T210000
DTSTAMP;VALUE=DATE-TIME:20260425T022153Z
UID:9d3a918f3e6927563e70394ca00f96da
CREATED;VALUE=DATE-TIME:20190711T000000Z
CATEGORIES:Vins i caves
LOCATION:Cal Feru eno·botiga
ORGANIZER:Cal Feru eno·botiga
COMMENT:Preu: 18 euros
DESCRIPTION:Descobreix els seus vins
URL:https://www.santsadurni.cat/document.php?id=13426
END:VEVENT
END:VCALENDAR