BEGIN:VCALENDAR
VERSION:2.0
PRODID:-//Plone.org//NONSGML plone.app.event//EN
X-WR-TIMEZONE:Europe/Madrid
BEGIN:VEVENT
SUMMARY:Col·loqui-concert "50 anys del primer disc de La Trinca"
DTSTART;TZID=Europe/Madrid;VALUE=DATE-TIME:20190712T203000
DTEND;TZID=Europe/Madrid;VALUE=DATE-TIME:20190712T213000
DTSTAMP;VALUE=DATE-TIME:20260425T011156Z
UID:bdaf2f6830b04f578a8e68f2c501de9b
CREATED;VALUE=DATE-TIME:20190712T000000Z
URL:https://www.santsadurni.cat/document.php?id=13462
END:VEVENT
END:VCALENDAR