BEGIN:VCALENDAR
VERSION:2.0
PRODID:-//Plone.org//NONSGML plone.app.event//EN
X-WR-TIMEZONE:Europe/Madrid
BEGIN:VEVENT
SUMMARY:Llibertat Presos i exiliats
DTSTART;TZID=Europe/Madrid;VALUE=DATE-TIME:20190715T200000
DTEND;TZID=Europe/Madrid;VALUE=DATE-TIME:20190715T210000
DTSTAMP;VALUE=DATE-TIME:20260420T011943Z
UID:8668fd8749382cc68d5e68492a1ddd50
CREATED;VALUE=DATE-TIME:20190715T000000Z
LOCATION:Cruïlla Carrer Raval amb Carrer Josep Amselm Clavé
ORGANIZER:ANC Sant Sadurní
URL:https://www.santsadurni.cat/document.php?id=13497
END:VEVENT
END:VCALENDAR