BEGIN:VCALENDAR
VERSION:2.0
PRODID:-//Plone.org//NONSGML plone.app.event//EN
X-WR-TIMEZONE:Europe/Madrid
BEGIN:VEVENT
SUMMARY:Actuació de playback del casal d'avis de Navàs.
DTSTART;TZID=Europe/Madrid;VALUE=DATE-TIME:20191018T163000
DTEND;TZID=Europe/Madrid;VALUE=DATE-TIME:20191018T173000
DTSTAMP;VALUE=DATE-TIME:20260422T115334Z
UID:660a5da5ace5c053ff6a6867f7ff3c52
CREATED;VALUE=DATE-TIME:20191018T000000Z
CATEGORIES:Música
LOCATION:Casal Municipal de la Gent Gran Sant Sadurní - Ps. Can Ferrer 11
ORGANIZER:Junta del ball berenar i Casal Municipal.
COMMENT:Preu: Gratuït
Durada: Dues hores aprox.
URL:https://www.santsadurni.cat/document.php?id=13674
END:VEVENT
END:VCALENDAR