BEGIN:VCALENDAR
VERSION:2.0
PRODID:-//Plone.org//NONSGML plone.app.event//EN
X-WR-TIMEZONE:Europe/Madrid
BEGIN:VEVENT
SUMMARY:Xerrada sobre Salut bucodental.
DTSTART;TZID=Europe/Madrid;VALUE=DATE-TIME:20191011T170000
DTEND;TZID=Europe/Madrid;VALUE=DATE-TIME:20191011T180000
DTSTAMP;VALUE=DATE-TIME:20260424T122112Z
UID:036203cbd3fefee779d0ca2575cadc03
CREATED;VALUE=DATE-TIME:20191004T000000Z
CATEGORIES:Conferència
LOCATION:Casal Municipal de la Gent Gran Sant Sadurní - Ps. Can Ferrer 11
ORGANIZER:Farmacia Anna Ferrer i Casal municipal.
COMMENT:Preu: Gratuït
Durada: Hora i mitja dos dies (4 i 11 d'octubre).
URL:https://www.santsadurni.cat/document.php?id=13687
END:VEVENT
END:VCALENDAR