BEGIN:VCALENDAR
VERSION:2.0
PRODID:-//Plone.org//NONSGML plone.app.event//EN
X-WR-TIMEZONE:Europe/Madrid
BEGIN:VEVENT
SUMMARY:Conferència pública Testimonis Cristians de Jehovà
DTSTART;TZID=Europe/Madrid;VALUE=DATE-TIME:20191027T110000
DTEND;TZID=Europe/Madrid;VALUE=DATE-TIME:20191027T120000
DTSTAMP;VALUE=DATE-TIME:20260422T072844Z
UID:536ad3a082389c400f911142730185c8
CREATED;VALUE=DATE-TIME:20191006T000000Z
CATEGORIES:Conferència
LOCATION:Passeig del Parc nº 1
ORGANIZER:Testimonis Cristians de Jehová
COMMENT:Preu: Gratuït
Durada: Els diumenges de 11 a 11:30 H.
URL:https://www.santsadurni.cat/document.php?id=13689
END:VEVENT
END:VCALENDAR