BEGIN:VCALENDAR
VERSION:2.0
PRODID:-//Plone.org//NONSGML plone.app.event//EN
X-WR-TIMEZONE:Europe/Madrid
BEGIN:VEVENT
SUMMARY:Cicle Biblioteques amb D.O.: Maridatge literari amb Cava Fonpinet i Vibop Edicions
DTSTART;TZID=Europe/Madrid;VALUE=DATE-TIME:20191006T120000
DTEND;TZID=Europe/Madrid;VALUE=DATE-TIME:20191006T130000
DTSTAMP;VALUE=DATE-TIME:20260422T095017Z
UID:a14ab8b0cf62e4d0a02efa82d0b81bcc
CREATED;VALUE=DATE-TIME:20191006T000000Z
CATEGORIES:Literatura,Vins i caves
LOCATION:Biblioteca Ramon Bosch de Noya - Plaça 1er Homenatge a la Vellesa, 10
ORGANIZER:Biblioteca Municipal amb la col·laboració de Caves Fonpinet i Vibop Edicions
URL:https://www.santsadurni.cat/document.php?id=13702
END:VEVENT
END:VCALENDAR