BEGIN:VCALENDAR
VERSION:2.0
PRODID:-//Plone.org//NONSGML plone.app.event//EN
X-WR-TIMEZONE:Europe/Madrid
BEGIN:VEVENT
SUMMARY:Cicle Biblioteques amb D.O.: Hora del conte &OpenCurlyDoubleQuote;Contes amb pa, vi i sucre"
DTSTART;TZID=Europe/Madrid;VALUE=DATE-TIME:20191009T173000
DTEND;TZID=Europe/Madrid;VALUE=DATE-TIME:20191009T183000
DTSTAMP;VALUE=DATE-TIME:20260422T081617Z
UID:71f8a566c86ffba429ca780f83c537c4
CREATED;VALUE=DATE-TIME:20191009T000000Z
CATEGORIES:Literatura,Infantils,Familiar,Vins i caves
LOCATION:A les caves Fonpinet (carrer Joan Maragall, 14) - Carrer Joan Maragall, 14, Sant Sadurní d'Anoia
ORGANIZER:Biblioteca Municipal amb la col·laboració de Cava Fonpinet
DESCRIPTION:Per a famílies amb infants a partir de P4. Sense inscripció prèvia
URL:https://www.santsadurni.cat/document.php?id=13718
END:VEVENT
END:VCALENDAR