BEGIN:VCALENDAR
VERSION:2.0
PRODID:-//Plone.org//NONSGML plone.app.event//EN
X-WR-TIMEZONE:Europe/Madrid
BEGIN:VEVENT
SUMMARY:Cicle Biblioteques amb D.O.: Enigmes i jocs de paraules &OpenCurlyDoubleQuote;Tastavins i tastamots&CloseCurlyDoubleQuote; de Miquel Sesé
DTSTART;TZID=Europe/Madrid;VALUE=DATE-TIME:20191010T193000
DTEND;TZID=Europe/Madrid;VALUE=DATE-TIME:20191010T203000
DTSTAMP;VALUE=DATE-TIME:20260422T082046Z
UID:d50fd5689923a9e1e321c0da9e77cd2e
CREATED;VALUE=DATE-TIME:20191010T000000Z
CATEGORIES:Conferència,Vins i caves
LOCATION:Biblioteca Ramon Bosch de Noya - Plaça 1er Homenatge a la Vellesa, 10
ORGANIZER:Biblioteca Municipal amb la col·laboració de Cava Fonpinet
URL:https://www.santsadurni.cat/document.php?id=13719
END:VEVENT
END:VCALENDAR