BEGIN:VCALENDAR
VERSION:2.0
PRODID:-//Plone.org//NONSGML plone.app.event//EN
X-WR-TIMEZONE:Europe/Madrid
BEGIN:VEVENT
SUMMARY:Cicle Biblioteques amb D.O.: Club de lectura per a comentar la novel·la "Terra aspriva" i visita a les Caves Fonpinet
DTSTART;TZID=Europe/Madrid;VALUE=DATE-TIME:20191011T170000
DTEND;TZID=Europe/Madrid;VALUE=DATE-TIME:20191011T180000
DTSTAMP;VALUE=DATE-TIME:20260422T081709Z
UID:592ae2db85bd4cb782a92ce4a3b5d182
CREATED;VALUE=DATE-TIME:20191011T000000Z
CATEGORIES:Literatura,Vins i caves
LOCATION:Cava Fonpinet - Carrer Grècia, 4, Polígon Can Ferrer
ORGANIZER:Biblioteca Municipal amb la col·laboració de Cava Fonpinet
URL:https://www.santsadurni.cat/document.php?id=13720
END:VEVENT
END:VCALENDAR