BEGIN:VCALENDAR
VERSION:2.0
PRODID:-//Plone.org//NONSGML plone.app.event//EN
X-WR-TIMEZONE:Europe/Madrid
BEGIN:VEVENT
SUMMARY:Cicle Biblioteques amb D.O.: Recital de contes i conversa "De vins i de mots" amb David Vila
DTSTART;TZID=Europe/Madrid;VALUE=DATE-TIME:20191016T193000
DTEND;TZID=Europe/Madrid;VALUE=DATE-TIME:20191016T203000
DTSTAMP;VALUE=DATE-TIME:20260422T101413Z
UID:40637c56cf4306e28bff327dcbd3edfe
CREATED;VALUE=DATE-TIME:20191016T000000Z
CATEGORIES:Literatura,Conferència,Vins i caves
LOCATION:Biblioteca Ramon Bosch de Noya - Plaça 1er Homenatge a la Vellesa, 10
ORGANIZER:Biblioteca Municipal amb la col·laboració de la Generalitat de Catalunya i Cava Rimarts
URL:https://www.santsadurni.cat/document.php?id=13721
END:VEVENT
END:VCALENDAR