BEGIN:VCALENDAR
VERSION:2.0
PRODID:-//Plone.org//NONSGML plone.app.event//EN
X-WR-TIMEZONE:Europe/Madrid
BEGIN:VEVENT
SUMMARY:AJORNADA: Cicle Biblioteques amb D.O.: Caminada familiar a la vinya.
DTSTART;TZID=Europe/Madrid;VALUE=DATE-TIME:20191019T093000
DTEND;TZID=Europe/Madrid;VALUE=DATE-TIME:20191019T103000
DTSTAMP;VALUE=DATE-TIME:20260422T095056Z
UID:5482a4bf8e371e9a5367cfc81f3e83bb
CREATED;VALUE=DATE-TIME:20191019T000000Z
CATEGORIES:Familiar,Vins i caves
LOCATION:Biblioteca Ramon Bosch de Noya - Plaça 1er Homenatge a la Vellesa, 10
ORGANIZER:Biblioteca Municipal amb la col·laboració de Cava Fonpinet
COMMENT:Preu: Gratuït però amb inscripció prèvia
URL:https://www.santsadurni.cat/document.php?id=13722
END:VEVENT
END:VCALENDAR