BEGIN:VCALENDAR
VERSION:2.0
PRODID:-//Plone.org//NONSGML plone.app.event//EN
X-WR-TIMEZONE:Europe/Madrid
BEGIN:VEVENT
SUMMARY:Bibliolab infantil "L'any de la vinya" a càrrec de Barrina Tallers
DTSTART;TZID=Europe/Madrid;VALUE=DATE-TIME:20191120T173000
DTEND;TZID=Europe/Madrid;VALUE=DATE-TIME:20191120T183000
DTSTAMP;VALUE=DATE-TIME:20260422T081551Z
UID:6e2bac4847f33cb17a6a97bda81f4280
CREATED;VALUE=DATE-TIME:20191120T000000Z
CATEGORIES:Infantils,Vins i caves
LOCATION:Biblioteca Ramon Bosch de Noya - Plaça 1er Homenatge a la Vellesa, 10
ORGANIZER:Biblioteca Municipal amb la col·laboració de Cava Fonpinet
COMMENT:Preu: Gratuït, amb inscripció prèvia
Durada: 60 minuts aproximadament
URL:https://www.santsadurni.cat/document.php?id=13723
END:VEVENT
END:VCALENDAR