BEGIN:VCALENDAR
VERSION:2.0
PRODID:-//Plone.org//NONSGML plone.app.event//EN
X-WR-TIMEZONE:Europe/Madrid
BEGIN:VEVENT
SUMMARY:Cicle Biblioteques amb D.O.: Xerrada i audició "El vi de la música" amb David Puertas
DTSTART;TZID=Europe/Madrid;VALUE=DATE-TIME:20191025T193000
DTEND;TZID=Europe/Madrid;VALUE=DATE-TIME:20191025T203000
DTSTAMP;VALUE=DATE-TIME:20260422T081858Z
UID:5ed3ff0863aad6906ffd28d208f75a6d
CREATED;VALUE=DATE-TIME:20191025T000000Z
CATEGORIES:Música,Conferència,Vins i caves
LOCATION:Biblioteca Ramon Bosch de Noya - Plaça 1er Homenatge a la Vellesa, 10
ORGANIZER:Biblioteca Municipal amb la col·laboració de Cava Fonpinet
URL:https://www.santsadurni.cat/document.php?id=13725
END:VEVENT
END:VCALENDAR