BEGIN:VCALENDAR
VERSION:2.0
PRODID:-//Plone.org//NONSGML plone.app.event//EN
X-WR-TIMEZONE:Europe/Madrid
BEGIN:VEVENT
SUMMARY:Sessió prepart gratuïta
DTSTART;TZID=Europe/Madrid;VALUE=DATE-TIME:20191019T100000
DTEND;TZID=Europe/Madrid;VALUE=DATE-TIME:20191019T110000
DTSTAMP;VALUE=DATE-TIME:20260424T105130Z
UID:437ebf32595468e7354f9585319fbd78
CREATED;VALUE=DATE-TIME:20191019T000000Z
CATEGORIES:Mostra,Cursos,Infantils,Familiar,Formació
LOCATION:Carrer Hospital, 9
ORGANIZER:HipnoNacer
COMMENT:Preu: gratuït
Durada: de 10 a 12:30
DESCRIPTION:Primera sessió del curs hipnopart de preparació al naixement
URL:https://www.santsadurni.cat/document.php?id=13732
END:VEVENT
END:VCALENDAR