BEGIN:VCALENDAR
VERSION:2.0
PRODID:-//Plone.org//NONSGML plone.app.event//EN
X-WR-TIMEZONE:Europe/Madrid
BEGIN:VEVENT
SUMMARY:Sagrament de la confirmació
DTSTART;TZID=Europe/Madrid;VALUE=DATE-TIME:20191019T200000
DTEND;TZID=Europe/Madrid;VALUE=DATE-TIME:20191019T210000
DTSTAMP;VALUE=DATE-TIME:20260424T122018Z
UID:cd32a0c0670c904af3e4d240a03ce780
CREATED;VALUE=DATE-TIME:20191019T000000Z
LOCATION:Església parroquial
DESCRIPTION:Presidida pel bisbe Agustí Cortes
URL:https://www.santsadurni.cat/document.php?id=13734
END:VEVENT
END:VCALENDAR