BEGIN:VCALENDAR
VERSION:2.0
PRODID:-//Plone.org//NONSGML plone.app.event//EN
X-WR-TIMEZONE:Europe/Madrid
BEGIN:VEVENT
SUMMARY:El Consell de la República: una eina per la Llibertat
DTSTART;TZID=Europe/Madrid;VALUE=DATE-TIME:20191018T200000
DTEND;TZID=Europe/Madrid;VALUE=DATE-TIME:20191018T210000
DTSTAMP;VALUE=DATE-TIME:20260424T105225Z
UID:3b2b7022be64dd8e27e3b31592cd0412
CREATED;VALUE=DATE-TIME:20191018T000000Z
CATEGORIES:Conferència
LOCATION:Celler de cal Rei, caves Jaume Giró
ORGANIZER:Birres X la República i ANC Sant Sadurní
COMMENT:Durada: 1'5 hores
DESCRIPTION:Cava X la República
URL:https://www.santsadurni.cat/document.php?id=13749
END:VEVENT
END:VCALENDAR