BEGIN:VCALENDAR
VERSION:2.0
PRODID:-//Plone.org//NONSGML plone.app.event//EN
X-WR-TIMEZONE:Europe/Madrid
BEGIN:VEVENT
SUMMARY:Concurs d'Aparadors
DTSTART;TZID=Europe/Madrid;VALUE=DATE-TIME:20191010T000000
DTEND;TZID=Europe/Madrid;VALUE=DATE-TIME:20191010T010000
DTSTAMP;VALUE=DATE-TIME:20260424T121950Z
UID:33d7747b96aba67362a915f3664c8a1b
CREATED;VALUE=DATE-TIME:20191001T000000Z
CATEGORIES:Exposició,Mostra,Vins i caves
ORGANIZER:Som Sant Sadurní
DESCRIPTION:En el marc dels 40 anys d'història de la Confraria
URL:https://www.santsadurni.cat/document.php?id=13752
END:VEVENT
END:VCALENDAR