BEGIN:VCALENDAR
VERSION:2.0
PRODID:-//Plone.org//NONSGML plone.app.event//EN
X-WR-TIMEZONE:Europe/Madrid
BEGIN:VEVENT
SUMMARY:XIII Cursa Solidària del Cava
DTSTART;TZID=Europe/Madrid;VALUE=DATE-TIME:20191027T100000
DTEND;TZID=Europe/Madrid;VALUE=DATE-TIME:20191027T110000
DTSTAMP;VALUE=DATE-TIME:20260422T042408Z
UID:8250273813865b67576aa4391b081453
CREATED;VALUE=DATE-TIME:20191027T000000Z
CATEGORIES:Esports
ORGANIZER:Confraria del Cava i Octagon
COMMENT:Preu: 14&euro; (inclou samarreta)
Durada: De 10 a 13h
DESCRIPTION:Corre o camina amb la Marató
URL:https://www.santsadurni.cat/document.php?id=13764
END:VEVENT
END:VCALENDAR