BEGIN:VCALENDAR
VERSION:2.0
PRODID:-//Plone.org//NONSGML plone.app.event//EN
X-WR-TIMEZONE:Europe/Madrid
BEGIN:VEVENT
SUMMARY:SUSPESA Visita de l'Oficina Mòbil d'informació al consumidor
DTSTART;TZID=Europe/Madrid;VALUE=DATE-TIME:20191016T103000
DTEND;TZID=Europe/Madrid;VALUE=DATE-TIME:20191016T113000
DTSTAMP;VALUE=DATE-TIME:20260424T105242Z
UID:73f73c53607fe938de99a047792ef30b
CREATED;VALUE=DATE-TIME:20191016T000000Z
CATEGORIES:Ajuntament
LOCATION:Pl. Era d'En Guineu
ORGANIZER:Diputació de Barcelona
COMMENT:Durada: Fins a les 13:00h
URL:https://www.santsadurni.cat/document.php?id=13837
END:VEVENT
END:VCALENDAR