BEGIN:VCALENDAR
VERSION:2.0
PRODID:-//Plone.org//NONSGML plone.app.event//EN
X-WR-TIMEZONE:Europe/Madrid
BEGIN:VEVENT
SUMMARY:Concert de Tardor
DTSTART;TZID=Europe/Madrid;VALUE=DATE-TIME:20191101T183000
DTEND;TZID=Europe/Madrid;VALUE=DATE-TIME:20191101T193000
DTSTAMP;VALUE=DATE-TIME:20260422T071907Z
UID:aaaf387c028643fe90fb299b980f251d
CREATED;VALUE=DATE-TIME:20191101T000000Z
CATEGORIES:Música
LOCATION:Cic Fassina c/ Sant Pere 40-42
ORGANIZER:Foment Sardanista Sant Sadurní
COMMENT:Preu: Taquilla inversa
URL:https://www.santsadurni.cat/document.php?id=13841
END:VEVENT
END:VCALENDAR