BEGIN:VCALENDAR
VERSION:2.0
PRODID:-//Plone.org//NONSGML plone.app.event//EN
X-WR-TIMEZONE:Europe/Madrid
BEGIN:VEVENT
SUMMARY:Ple extraordinari
DTSTART;TZID=Europe/Madrid;VALUE=DATE-TIME:20191017T193000
DTEND;TZID=Europe/Madrid;VALUE=DATE-TIME:20191017T203000
DTSTAMP;VALUE=DATE-TIME:20260422T114517Z
UID:f8d2b2e68e51a1da9dc10577a1a1b2ce
CREATED;VALUE=DATE-TIME:20191017T000000Z
CATEGORIES:Conferència,Agenda de l'alcalde
LOCATION:Ajuntament de Sant Sadurní - Pl. Ajuntament 1
URL:https://www.santsadurni.cat/document.php?id=13848
END:VEVENT
END:VCALENDAR