BEGIN:VCALENDAR
VERSION:2.0
PRODID:-//Plone.org//NONSGML plone.app.event//EN
X-WR-TIMEZONE:Europe/Madrid
BEGIN:VEVENT
SUMMARY:Ple extraordinari
DTSTART;TZID=Europe/Madrid;VALUE=DATE-TIME:20191017T190000
DTEND;TZID=Europe/Madrid;VALUE=DATE-TIME:20191017T200000
DTSTAMP;VALUE=DATE-TIME:20260424T145124Z
UID:1b3ae9a5cf60aa705e82c22025186022
CREATED;VALUE=DATE-TIME:20191017T000000Z
CATEGORIES:Conferència,Agenda de l'alcalde
LOCATION:Ajuntament de Sant Sadurní - Pl. Ajuntament 1
URL:https://www.santsadurni.cat/document.php?id=13849
END:VEVENT
END:VCALENDAR