BEGIN:VCALENDAR
VERSION:2.0
PRODID:-//Plone.org//NONSGML plone.app.event//EN
X-WR-TIMEZONE:Europe/Madrid
BEGIN:VEVENT
SUMMARY:Jornada de formació Comunicació del Vi
DTSTART;TZID=Europe/Madrid;VALUE=DATE-TIME:20191108T100000
DTEND;TZID=Europe/Madrid;VALUE=DATE-TIME:20191108T110000
DTSTAMP;VALUE=DATE-TIME:20260422T075757Z
UID:db1ec1dafbf70edf3df1655827e1e0f9
CREATED;VALUE=DATE-TIME:20191108T000000Z
CATEGORIES:Cinema,Formació
LOCATION:CIC Fassina Centre d'Interpretació del Cava - Cr. Hospital 23
ORGANIZER:Most Festival Internacional del Vi i el Cava
COMMENT:Preu: 5 &euro;
Durada: 2h
DESCRIPTION:Most Festival Internacional de Cinema del Vi i el Cava
URL:https://www.santsadurni.cat/document.php?id=13857
END:VEVENT
END:VCALENDAR