BEGIN:VCALENDAR
VERSION:2.0
PRODID:-//Plone.org//NONSGML plone.app.event//EN
X-WR-TIMEZONE:Europe/Madrid
BEGIN:VEVENT
SUMMARY:Gala del vi a Sant Sadurní d'Anoia
DTSTART;TZID=Europe/Madrid;VALUE=DATE-TIME:20191109T220000
DTEND;TZID=Europe/Madrid;VALUE=DATE-TIME:20191109T230000
DTSTAMP;VALUE=DATE-TIME:20260422T031406Z
UID:2d920d80a48cd33d2168da4d47794563
CREATED;VALUE=DATE-TIME:20191109T000000Z
CATEGORIES:Cinema,Vins i caves
LOCATION:CIC Fassina Centre d'Interpretació del Cava - Cr. Hospital 23
ORGANIZER:Most Festival Internacional del Vi i el Cava
COMMENT:Preu: 5 &euro;
DESCRIPTION:Most Festival Internacional de Cinema del Vi i el Cava
URL:https://www.santsadurni.cat/document.php?id=13858
END:VEVENT
END:VCALENDAR