BEGIN:VCALENDAR
VERSION:2.0
PRODID:-//Plone.org//NONSGML plone.app.event//EN
X-WR-TIMEZONE:Europe/Madrid
BEGIN:VEVENT
SUMMARY:Visita de l'Oficina Mòbil d'informació al consumidor
DTSTART;TZID=Europe/Madrid;VALUE=DATE-TIME:20191104T103000
DTEND;TZID=Europe/Madrid;VALUE=DATE-TIME:20191104T113000
DTSTAMP;VALUE=DATE-TIME:20260422T085118Z
UID:0d3cd81fb2e0c0724bd8fba165aae053
CREATED;VALUE=DATE-TIME:20191104T000000Z
CATEGORIES:Ajuntament
LOCATION:Pl. Era d'En Guineu
ORGANIZER:Diputació de Barcelona
COMMENT:Durada: Fins a les 13:00h
URL:https://www.santsadurni.cat/document.php?id=13948
END:VEVENT
END:VCALENDAR