BEGIN:VCALENDAR
VERSION:2.0
PRODID:-//Plone.org//NONSGML plone.app.event//EN
X-WR-TIMEZONE:Europe/Madrid
BEGIN:VEVENT
SUMMARY:El Penedès Secret a Sant Sadurní
DTSTART;TZID=Europe/Madrid;VALUE=DATE-TIME:20191128T000000
DTEND;TZID=Europe/Madrid;VALUE=DATE-TIME:20191128T010000
DTSTAMP;VALUE=DATE-TIME:20260422T043623Z
UID:4e38d00602bf64dbb61f560a0cde9006
CREATED;VALUE=DATE-TIME:20191128T000000Z
CATEGORIES:Exposició
LOCATION:CIC Fassina Centre d'Interpretació del Cava - C. Hospital, 23
ORGANIZER:Consorci de promoció turística del Penedès i Ajuntament de Sant Sadurní d'Anoia
COMMENT:Preu: Gratuït
DESCRIPTION:A partir del 28 de novembre al CIC Fassina
URL:https://www.santsadurni.cat/document.php?id=14004
END:VEVENT
END:VCALENDAR