BEGIN:VCALENDAR
VERSION:2.0
PRODID:-//Plone.org//NONSGML plone.app.event//EN
X-WR-TIMEZONE:Europe/Madrid
BEGIN:VEVENT
SUMMARY:La vinya a l'hivern
DTSTART;TZID=Europe/Madrid;VALUE=DATE-TIME:20200215T123000
DTEND;TZID=Europe/Madrid;VALUE=DATE-TIME:20200215T133000
DTSTAMP;VALUE=DATE-TIME:20260422T085230Z
UID:12fe4609d2bee0db04d6ffe8d14968e5
CREATED;VALUE=DATE-TIME:20200215T000000Z
CATEGORIES:Infantils,Familiar
LOCATION:CIC Fassina Centre d'Interpretació del Cava - Cr. Hospital 23 (entrada al Centre i a l'Oficina de Turisme)
ORGANIZER:CIC Fassina Centre d'Interpretació del Cava
COMMENT:Preu: 3 &euro;
Durada: 1h aprox.
URL:https://www.santsadurni.cat/document.php?id=14247
END:VEVENT
END:VCALENDAR